BEGIN:VCALENDAR
VERSION:2.0
PRODID:-//Lincoln Association for Traditional Arts - ECPv6.15.18//NONSGML v1.0//EN
CALSCALE:GREGORIAN
METHOD:PUBLISH
X-WR-CALNAME:Lincoln Association for Traditional Arts
X-ORIGINAL-URL:https://lafta.net
X-WR-CALDESC:Events for Lincoln Association for Traditional Arts
REFRESH-INTERVAL;VALUE=DURATION:PT1H
X-Robots-Tag:noindex
X-PUBLISHED-TTL:PT1H
BEGIN:VTIMEZONE
TZID:America/Chicago
BEGIN:DAYLIGHT
TZOFFSETFROM:-0600
TZOFFSETTO:-0500
TZNAME:CDT
DTSTART:20090308T080000
END:DAYLIGHT
BEGIN:STANDARD
TZOFFSETFROM:-0500
TZOFFSETTO:-0600
TZNAME:CST
DTSTART:20091101T070000
END:STANDARD
BEGIN:DAYLIGHT
TZOFFSETFROM:-0600
TZOFFSETTO:-0500
TZNAME:CDT
DTSTART:20100314T080000
END:DAYLIGHT
BEGIN:STANDARD
TZOFFSETFROM:-0500
TZOFFSETTO:-0600
TZNAME:CST
DTSTART:20101107T070000
END:STANDARD
BEGIN:DAYLIGHT
TZOFFSETFROM:-0600
TZOFFSETTO:-0500
TZNAME:CDT
DTSTART:20110313T080000
END:DAYLIGHT
BEGIN:STANDARD
TZOFFSETFROM:-0500
TZOFFSETTO:-0600
TZNAME:CST
DTSTART:20111106T070000
END:STANDARD
END:VTIMEZONE
BEGIN:VEVENT
DTSTART;TZID=America/Chicago:20100901T080000
DTEND;TZID=America/Chicago:20100901T170000
DTSTAMP:20260421T092454
CREATED:20240129T171457Z
LAST-MODIFIED:20240129T171457Z
UID:354-1283328000-1283360400@lafta.net
SUMMARY:Bluegrass Crusade
DESCRIPTION:
URL:https://lafta.net/event/bluegrass-crusade/
LOCATION:7th Street Loft\, 504 South 7th Street\, Lincoln\, NE\, 68508\, United States
END:VEVENT
END:VCALENDAR